BEGIN:VCALENDAR
VERSION:2.0
PRODID:-//Soren - ECPv6.15.20//NONSGML v1.0//EN
CALSCALE:GREGORIAN
METHOD:PUBLISH
X-ORIGINAL-URL:https://www.soren.eco
X-WR-CALDESC:Évènements pour Soren
REFRESH-INTERVAL;VALUE=DURATION:PT1H
X-Robots-Tag:noindex
X-PUBLISHED-TTL:PT1H
BEGIN:VTIMEZONE
TZID:Europe/Paris
BEGIN:DAYLIGHT
TZOFFSETFROM:+0100
TZOFFSETTO:+0200
TZNAME:CEST
DTSTART:20210328T010000
END:DAYLIGHT
BEGIN:STANDARD
TZOFFSETFROM:+0200
TZOFFSETTO:+0100
TZNAME:CET
DTSTART:20211031T010000
END:STANDARD
BEGIN:DAYLIGHT
TZOFFSETFROM:+0100
TZOFFSETTO:+0200
TZNAME:CEST
DTSTART:20220327T010000
END:DAYLIGHT
BEGIN:STANDARD
TZOFFSETFROM:+0200
TZOFFSETTO:+0100
TZNAME:CET
DTSTART:20221030T010000
END:STANDARD
BEGIN:DAYLIGHT
TZOFFSETFROM:+0100
TZOFFSETTO:+0200
TZNAME:CEST
DTSTART:20230326T010000
END:DAYLIGHT
BEGIN:STANDARD
TZOFFSETFROM:+0200
TZOFFSETTO:+0100
TZNAME:CET
DTSTART:20231029T010000
END:STANDARD
END:VTIMEZONE
BEGIN:VEVENT
DTSTART;TZID=Europe/Paris:20220202T140000
DTEND;TZID=Europe/Paris:20220202T150000
DTSTAMP:20260421T043822
CREATED:20220125T070054Z
LAST-MODIFIED:20220125T171532Z
UID:4005-1643810400-1643814000@www.soren.eco
SUMMARY:Webinaire Info-tri & Identifiant unique
DESCRIPTION:⚖️ La réglementation relative à l’information du consommateur prévoit de nouvelles dispositions avec la mise en place de l’info-tri et de l’identifiant unique pour les metteurs sur le marché. \nℹ️ Vous êtes l’un de nos producteurs adhérents et vous souhaitez échanger avec l’équipe Soren sur ces nouvelles obligations ? Inscrivez vous dès à présent à notre webinaire : https://lnkd.in/gXctWs_5 \n⌛ En 1 heure\, notre équipe vous donnera toutes les clefs pour comprendre et mettre en place ces nouveaux éléments d’information du consommateur et répondra à vos questions. \nRendez-vous le 2 février à 14h !
URL:https://www.soren.eco/agenda-evenement/webinaire-info-tri-identifiant-unique/
CATEGORIES:Webinaire
END:VEVENT
END:VCALENDAR